BEGIN:VCALENDAR
VERSION:2.0
BEGIN:VEVENT
CLASS:PUBLIC
CATEGORIES:MEETING
DTSTART;TZID=America/Denver:20170317T200000
DTEND;TZID=America/Denver:20170317T200000
SUMMARY:The Elders at Soiled Dove Underground
DESCRIPTION:Price: $18.75 - $30\nClick here to buy tickets: https://www.ticketfly.com/purchase/event/1390231?utm_medium=bks\nAge Limit: All Ages
LOCATION:Soiled Dove Underground - 7401 E. 1st Ave., Denver, CO, 80230, US
END:VEVENT

END:VCALENDAR
