BEGIN:VCALENDAR
VERSION:2.0
BEGIN:VEVENT
CLASS:PUBLIC
CATEGORIES:MEETING
DTSTART;TZID=America/Denver:20170316T193000
DTEND;TZID=America/Denver:20170316T193000
SUMMARY:The Elders at Rialto Theater
DESCRIPTION:Price: $22 plus $3 ticketing fee\nClick here to buy tickets: https://rialtoloveland.ticketforce.com/ordertickets.asp?p=841&amp;src=eventperformances\nAge Limit: All Ages
LOCATION:Rialto Theater - 228 E 4th Street, Loveland, CO, 80537, US
END:VEVENT

END:VCALENDAR
