BEGIN:VCALENDAR
VERSION:2.0
BEGIN:VEVENT
CLASS:PUBLIC
CATEGORIES:MEETING
DTSTART;TZID=America/New_York:20170126T200000
DTEND;TZID=America/New_York:20170126T200000
SUMMARY:Grant Maloy Smith at Rudy's Pub
DESCRIPTION:Age Limit: All Ages\n\nDetails: A few days before the South Florida Folk Festival, several songwriters are presenting their music at Rudy&#39;s of Lake Worth in an intimate songwriters-in-the-round setting. Come by and enjoy the music and friendship.
LOCATION:Rudy's Pub - 9 North J Street, Lake Worth, FL, 33460, US
END:VEVENT

END:VCALENDAR
