BEGIN:VCALENDAR
VERSION:2.0
BEGIN:VEVENT
CLASS:PUBLIC
CATEGORIES:MEETING
DTSTART;TZID=Pacific/Auckland:20161209T200000
DTEND;TZID=Pacific/Auckland:20161209T200000
SUMMARY:Phreaze at Urban Drama Xmas Appeal @ Rehab Bar
DESCRIPTION:Age Limit: 18+\n\nDetails: Hey peeps!!! Come along to the Urban Drama annual Christmas Appeal at Rehab Bar Tauranga! You&#39;ll be treated to some DOPE performances and all you have to pay to get in, is a gift wrapped Prezzy for less fortunate families in the TGA area! Phreaze will also be performing at this event in support of the cause - see you there!!!
LOCATION:Urban Drama Xmas Appeal @ Rehab Bar - 20 Hamilton Street, Tauranga, BOO, NZ
END:VEVENT

END:VCALENDAR
