BEGIN:VCALENDAR
VERSION:2.0
BEGIN:VEVENT
CLASS:PUBLIC
CATEGORIES:MEETING
DTSTART;TZID=Pacific/Auckland:20161203T200000
DTEND;TZID=Pacific/Auckland:20161203T200000
SUMMARY:Phreaze at Casino Night @ Peach & Porker
DESCRIPTION:Price: 40.00\nClick here to buy tickets: https://www.facebook.com/events/1824869824436900/?ti=icl\nAge Limit: 18+\n\nDetails: TE AWAMUTU: Phreaze will be MCing this aaaawesome fundraising event THIS SATURDAY in TA supporting P.Y.S.T.A.L. (Preventing Youth Suicide in Te Awamutu Legacies)! Bring your Casino Attire and have a MEAN night knowing you&#39;re supporting a good cause at the same time! Share up people! :-)) See Peach &amp; Porker FB page for more details &amp; updates!!
LOCATION:Casino Night @ Peach & Porker - Alexandra Street, Te Awamutu, WAI, NZ
END:VEVENT

END:VCALENDAR
