BEGIN:VCALENDAR
VERSION:2.0
BEGIN:VEVENT
CLASS:PUBLIC
CATEGORIES:MEETING
DTSTART;TZID=America/Chicago:20161216T180000
DTEND;TZID=America/Chicago:20161216T180000
SUMMARY:Ryan Coleman at Mayday Brewery
DESCRIPTION:Price: free\nAge Limit: All Ages
LOCATION:Mayday Brewery - 521 Old Salem Road, Murfreesboro, TN, 37129, US
END:VEVENT

END:VCALENDAR
