BEGIN:VCALENDAR
VERSION:2.0
BEGIN:VEVENT
CLASS:PUBLIC
CATEGORIES:MEETING
DTSTART;TZID=Pacific/Auckland:20161204T100000
DTEND;TZID=Pacific/Auckland:20161204T100000
SUMMARY:Phreaze at Family Fun Day @ Tye Park
DESCRIPTION:Age Limit: All Ages
LOCATION:Family Fun Day @ Tye Park - Forrester Drive, Welcome Bay, BOP, NZ
END:VEVENT

END:VCALENDAR
