BEGIN:VCALENDAR
VERSION:2.0
BEGIN:VEVENT
CLASS:PUBLIC
CATEGORIES:MEETING
DTSTART;TZID=America/Chicago:20161031T163000
DTEND;TZID=America/Chicago:20161031T163000
SUMMARY:DeDe Wedekind at DeDe on WSM Radio #Nashville-LIVE!
DESCRIPTION:Click here to buy tickets: http://wsmonline.com/shows/nashvilletoday/\nAge Limit: All Ages\n\nDetails: \nDeDe Wedekind on WSM RADIO SHOW, #1 Country Music Radio in the USA!\nDate: Monday, October 3-Halloween!\nCall Time: 4:30pm CDT \nWSM 650AM&#39;s “Nashville Today&quot;\nNational Radio across the US\nAppearance Type: IN-STUDIO interview \nInterviewers: Nan Kelley &amp; Devon O&#39;Day\nLive or Taped: LIVE \nStudio: The Gaylord Opryland Hotel! \n\n650 AM WSM, home to the Grand Ole Opry, is the most famed country music station in the world. On the air since 1925, WSM continues to reach a worldwide audience, through both its powerful 50,000-watt clear channel AM signal (which reaches 38 states and part of Canada) and via its Internet simulcast at http://wsmonline.com.\n\nLISTEN LIVE Website:\nhttp://wsmonline.com/shows/nashvilletoday/
LOCATION:DeDe on WSM Radio #Nashville-LIVE! - 2800 Opryland Dr., Nashville, TN, 37214, US
END:VEVENT

END:VCALENDAR
