BEGIN:VCALENDAR
VERSION:2.0
BEGIN:VEVENT
CLASS:PUBLIC
CATEGORIES:MEETING
DTSTART;TZID=America/Panama:20161229T180000
DTEND;TZID=America/Panama:20161229T180000
SUMMARY:DeDe Wedekind at DeDe & Larrys Holiday Show @ The ROCK!
DESCRIPTION:Click here to buy tickets: http://www.therockboquete.com\nAge Limit: All Ages\n\nDetails: DeDe &amp; Larry are back for their annual Rock Holiday Show &amp; Dinner! Date may change, &amp; time TBA!
LOCATION:DeDe & Larrys Holiday Show @ The ROCK! - OtherSide of the River, Boquete, CHIRI, PA
END:VEVENT

END:VCALENDAR
