BEGIN:VCALENDAR
VERSION:2.0
BEGIN:VEVENT
CLASS:PUBLIC
CATEGORIES:MEETING
DTSTART;TZID=America/Chicago:20161031T090000
DTEND;TZID=America/Chicago:20161031T090000
SUMMARY:DeDe Wedekind at 9 on CBS WREG TV Memphis Morning Show! 
DESCRIPTION:Click here to buy tickets: http://wreg.com/category/on-air/live-at-9/\nAge Limit: All Ages\n\nDetails: DeDe LIVE on TV: Memphis LIVE at 9 Morning Show! Show airs live from 9am-10am DeDe Wedekind will appear performing new song, America United!\nInterviewers:	Marybeth Conley/Alex Coleman\nOutlet:Live at 9 (WREG-TV) - CBS affiliate\nMarket:	Mid-South Tennessee\nAppearance Type: TV Interview &amp; Live Performance of America United\nLive or Taped:			LIVE	\nStudio Address:		803 Channel 3 Drive, Memphis, TN	\nWebsite:				http://wreg.com/category/on-air/live-at-9/\n
LOCATION:9 on CBS WREG TV Memphis Morning Show!  - 803 Channel 3 Dr., Memphis, TN, 38103, US
END:VEVENT

END:VCALENDAR
