BEGIN:VCALENDAR
VERSION:2.0
BEGIN:VEVENT
CLASS:PUBLIC
CATEGORIES:MEETING
DTSTART;TZID=America/Toronto:20161024T203000
DTEND;TZID=America/Toronto:20161024T203000
SUMMARY:Great Panic at The Brass Monkey
DESCRIPTION:Price: $20\nAge Limit: 19+\n\nDetails: Paperwork is now cleared for this make up date to the original scheduled show in May. Added to the bill Enuff Z&#39;Nuff &amp; Still Rebel.\n\n Two of the most acclaimed and beloved artists to emerge from the 80&#39;s Metal era along with one of the most talked about up-and-comers are joining forces to bring their dynamic live performances and many smash hits across the country this fall...\n\n L.A. GUNS&#39; TRACII GUNS took the 80&#39;s airwaves by storm with numerous gold certified smashes such as &quot;THE BALLAD OF JAYNE&quot; and &quot;SEX ACTION&quot; and the always energetic virtuoso will be performing the iconic L.A. GUNS debut album in its entirety at all shows!\n\n ENUFF Z&#39;NUFF has received praise from the likes of ROLLING STONE magazine who named them Best New Artist as well as HOWARD STERN who hailed them as his favorite band... the crowd pleasing live band brings the classics &quot;NEW THING&quot; and &quot;FLY HIGH MICHELLE&quot; to life in their own dynamic fashion.\n\n Both artists dominated MTV and radio in the 80&#39;s but remain relevant today with heavy rotation on SIRIUS XM and outlets internationally!\nLocal rockers Great Panic will be kicking this one off. \n\n Tickets on sale now
LOCATION:The Brass Monkey - 250 Greenbank Rd, Ottawa, ON, K2H 8X4, CA
END:VEVENT

END:VCALENDAR
