BEGIN:VCALENDAR
VERSION:2.0
BEGIN:VEVENT
CLASS:PUBLIC
CATEGORIES:MEETING
DTSTART;TZID=America/New_York:20160924T190000
DTEND;TZID=America/New_York:20160924T190000
SUMMARY:Jericho at Jonesville Baptist Church
DESCRIPTION:Age Limit: All Ages
LOCATION:Jonesville Baptist Church - Newberry, Newberry, FL, 33873, US
END:VEVENT

END:VCALENDAR
