BEGIN:VCALENDAR
VERSION:2.0
BEGIN:VEVENT
CLASS:PUBLIC
CATEGORIES:MEETING
DTSTART;TZID=America/New_York:20160923T190000
DTEND;TZID=America/New_York:20160923T190000
SUMMARY:Jericho at EndTime Ministries
DESCRIPTION:Age Limit: All Ages
LOCATION:EndTime Ministries - Wauchula, Wauchula, FL, 33873, US
END:VEVENT

END:VCALENDAR
