BEGIN:VCALENDAR
VERSION:2.0
BEGIN:VEVENT
CLASS:PUBLIC
CATEGORIES:MEETING
DTSTART;TZID=Europe/London:20161007T190000
DTEND;TZID=Europe/London:20161007T190000
SUMMARY:Atlas Run at The Record Factory
DESCRIPTION:Price: £5\nAge Limit: 18+
LOCATION:The Record Factory - 17 Byres Road, Glasgow, G11 5RD, UK
END:VEVENT

END:VCALENDAR
