BEGIN:VCALENDAR
VERSION:2.0
BEGIN:VEVENT
CLASS:PUBLIC
CATEGORIES:MEETING
DTSTART;TZID=America/Phoenix:20161010T190000
DTEND;TZID=America/Phoenix:20161010T190000
SUMMARY:Jay Faircloth at Royal Sun Lounge
DESCRIPTION:Age Limit: All Ages
LOCATION:Royal Sun Lounge - 1003 North Stone Avenue, Tucson, AZ, 85705, US
END:VEVENT

END:VCALENDAR
