BEGIN:VCALENDAR
VERSION:2.0
BEGIN:VEVENT
CLASS:PUBLIC
CATEGORIES:MEETING
DTSTART;TZID=America/New_York:20160828T170000
DTEND;TZID=America/New_York:20160828T170000
SUMMARY:Jericho at East Liver Pool 
DESCRIPTION:Age Limit: All Ages
LOCATION:East Liver Pool  - East Liver Pool, East Liver Pool, OH, 43920, US
END:VEVENT

END:VCALENDAR
