BEGIN:VCALENDAR
VERSION:2.0
BEGIN:VEVENT
CLASS:PUBLIC
CATEGORIES:MEETING
DTSTART;TZID=America/Panama:20160922T180000
DTEND;TZID=America/Panama:20160922T180000
SUMMARY:DeDe Wedekind at DeDe Live @ The Rock
DESCRIPTION:Click here to buy tickets: http://www.dedewedekind.com\nAge Limit: All Ages\n\nDetails: DeDe &amp; Larry perform LIVE 80&#39;s hit music from 6-9pm and a few of DeDe&#39;s 80&#39;s retro originals like NEW Leaning on Heaven! DATE &amp; TIME TBA but before Sept. 30th!
LOCATION:DeDe Live @ The Rock - Riverside Rd., Boquete, CHIRI, PA
END:VEVENT

END:VCALENDAR
