BEGIN:VCALENDAR
VERSION:2.0
BEGIN:VEVENT
CLASS:PUBLIC
CATEGORIES:MEETING
DTSTART;TZID=Pacific/Auckland:20160728T040000
DTEND;TZID=Pacific/Auckland:20160728T040000
SUMMARY:Phreaze at 35ers Tour - Altitude & Gravity Bar
DESCRIPTION:Click here to buy tickets: https://www.facebook.com/events/1223516681006122/?ti=icl\nAge Limit: 18+\n\nDetails: Phreaze LIVE supporting Gisborne&#39;s 35ers North Island Tour! See Facebook for details: https://www.facebook.com/events/1223516681006122/?ti=icl
LOCATION:35ers Tour - Altitude & Gravity Bar - 30 Alexandra Street, Hamilton, WAI, NZ
END:VEVENT

END:VCALENDAR
