BEGIN:VCALENDAR
VERSION:2.0
BEGIN:VEVENT
CLASS:PUBLIC
CATEGORIES:MEETING
DTSTART;TZID=America/Los_Angeles:20160911T100000
DTEND;TZID=America/Los_Angeles:20160911T100000
SUMMARY:DeDe Wedekind at Solano Street Stroll Festival!
DESCRIPTION:Price: FREE! All Ages!\nClick here to buy tickets: http://www.solanoavenueassn.org/events/solano-avenue-stroll/\nAge Limit: All Ages\n\nDetails: DeDe &amp; DayDreams 3 Shows TBA!!\nSince 1974 Solano Avenue and the twin-cities of Albany and Berkeley CA, have hosted the Solano Avenue Stroll, the East Bay’s largest street festival! The Solano Avenue Association invites you to see what makes Solano Avenue a wonderful place. We feature over five hundred vendors including 50 entertainers, 50 food booths, 150 government and non-profit agencies, 150 juried hand-crafters, a 75 entry parade, state of the art mechanical rides and much more! (Parade begins at 10am.)\n\nCome visit the unique and popular professional services, restaurants, and shops already here on Solano Avenue.\n\n250,000 participants and event guests visit from all over the west coast.\n\nThis family event promotes the unique traits of Solano Avenue, helping independently-owned businesses, artists, and community organizations to thrive by exposure and fundraising.\n\nPlease see the press room to stay tuned-into what’s hot at this years event!
LOCATION:Solano Street Stroll Festival! - Solano Street, Berkeley, CA, 94707, US
END:VEVENT

END:VCALENDAR
