BEGIN:VCALENDAR
VERSION:2.0
BEGIN:VEVENT
CLASS:PUBLIC
CATEGORIES:MEETING
DTSTART;TZID=America/New_York:20160915T190000
DTEND;TZID=America/New_York:20160915T190000
SUMMARY:Jordan Okrend Experience at Pianos NYC
DESCRIPTION:Age Limit: All Ages
LOCATION:Pianos NYC - 158 Ludlow Street, New York, NY, 10002, US
END:VEVENT

END:VCALENDAR
