BEGIN:VCALENDAR
VERSION:2.0
BEGIN:VEVENT
CLASS:PUBLIC
CATEGORIES:MEETING
DTSTART;TZID=Pacific/Auckland:20160723T210000
DTEND;TZID=Pacific/Auckland:20160723T210000
SUMMARY:Icepro NZ at The Commercial Hotel
DESCRIPTION:Price: $10\nClick here to buy tickets: http://Www.tch.co.nz\nAge Limit: 18+\n\nDetails: For the first time in 15 years, TA&#39;s own &quot;Phreaze&quot; is returning for her first performance in TA EVER! OH-SEVEN is a new live Hiphop/RnB night about getting familiar with artists who have roots or affiliations to the Waikato! Its a chance for Artists to come home, give back and inspire the community that inspired us! It&#39;s also an opportunity for the community to get familiar and support their own while having a DOPE night of ENTERTAINMENT, PRIZES, GIVEAWAYS and AAAAWESOME music!! BIG UPS to everyone sharing the poster and event already - PUMPED!! See poster for details and ways to WIN!!
LOCATION:The Commercial Hotel - 97 Alexandra Street, Te Awamutu, 3800, NZ
END:VEVENT

END:VCALENDAR
