BEGIN:VCALENDAR
VERSION:2.0
BEGIN:VEVENT
CLASS:PUBLIC
CATEGORIES:MEETING
DTSTART;TZID=America/Los_Angeles:20170209T200000
DTEND;TZID=America/Los_Angeles:20170209T200000
SUMMARY:Grant Maloy Smith at Kulak's Woodshed
DESCRIPTION:Price: $20 donation\nClick here to buy tickets: https://www.concertwindow.com/indiecollaborative\nAge Limit: All Ages\n\nDetails: The Indie Collaborative is staging a two night concert in North Hollywood on Thursday and Friday night just before the 59th annual Grammy® awards. More than 50 opt-notch Indie Musicians from all over the world and from every genre, will be there to perform. The event will be simulcast on Concert Window, so you can watch it from 8-11pm on both nights from anywhere. Just log in on your computer at www.concertwindow.com/indiecollaborative and join in the music and fun. Both nights will be emceed by award-winning American Roots songwriter and vocalist Grant Maloy Smith.
LOCATION:Kulak's Woodshed - 5230 Laurel Canyon Blvd, North Hollywood, CA, 91607, US
END:VEVENT

END:VCALENDAR
