BEGIN:VCALENDAR
VERSION:2.0
BEGIN:VEVENT
CLASS:PUBLIC
CATEGORIES:MEETING
DTSTART;TZID=America/New_York:20160723T190000
DTEND;TZID=America/New_York:20160723T190000
SUMMARY:Jericho at Taking The City Bash
DESCRIPTION:Age Limit: All Ages
LOCATION:Taking The City Bash - Ft.Myers, Ft.Myers, FL, 33907, US
END:VEVENT

END:VCALENDAR
