BEGIN:VCALENDAR
VERSION:2.0
BEGIN:VEVENT
CLASS:PUBLIC
CATEGORIES:MEETING
DTSTART;TZID=America/New_York:20160722T190000
DTEND;TZID=America/New_York:20160722T190000
SUMMARY:Jericho at Working Faith Ministries
DESCRIPTION:Age Limit: All Ages
LOCATION:Working Faith Ministries - Lake Placid, Lake Placid, FL, 33852, US
END:VEVENT

END:VCALENDAR
