BEGIN:VCALENDAR
VERSION:2.0
BEGIN:VEVENT
CLASS:PUBLIC
CATEGORIES:MEETING
DTSTART;TZID=America/New_York:20160721T200000
DTEND;TZID=America/New_York:20160721T200000
SUMMARY:Jericho at End Time Ministries
DESCRIPTION:Age Limit: All Ages
LOCATION:End Time Ministries - Wauchula, Wauchula, FL, 33873, US
END:VEVENT

END:VCALENDAR
