BEGIN:VCALENDAR
VERSION:2.0
BEGIN:VEVENT
CLASS:PUBLIC
CATEGORIES:MEETING
DTSTART;TZID=Pacific/Auckland:20160417T150000
DTEND;TZID=Pacific/Auckland:20160417T150000
SUMMARY:Phreaze at Waiataha Reserve
DESCRIPTION:Price: FREE\nAge Limit: All Ages\n\nDetails: Welcome Bay Community Centre will be hosting another awesome Picnic in the Park 3pm-5pm with LIVE music and more! Catch Phreaze performing live at this event!
LOCATION:Waiataha Reserve - Welcome Bay Road, Tauranga, BOP, 3112, NZ
END:VEVENT

END:VCALENDAR
