BEGIN:VCALENDAR
VERSION:2.0
BEGIN:VEVENT
CLASS:PUBLIC
CATEGORIES:MEETING
DTSTART;TZID=Pacific/Auckland:20160403T150000
DTEND;TZID=Pacific/Auckland:20160403T150000
SUMMARY:Phreaze at Community Picnic @ Waitaha Reserve
DESCRIPTION:Price: FREE\nAge Limit: All Ages\n\nDetails: FREE Sausage Sizzle, Entertainment and MORE! Phreaze performing LIVE
LOCATION:Community Picnic @ Waitaha Reserve - Welcome Bay Road, Tauranga, BOO, NZ
END:VEVENT

END:VCALENDAR
