BEGIN:VCALENDAR
VERSION:2.0
BEGIN:VEVENT
CLASS:PUBLIC
CATEGORIES:MEETING
DTSTART;TZID=Europe/London:20160401T200000
DTEND;TZID=Europe/London:20160401T200000
SUMMARY:Loaded 44 at The Three Tuns
DESCRIPTION:Age Limit: 18+
LOCATION:The Three Tuns - The Three Tuns, Gateshead, NE9 5SD, UK
END:VEVENT

END:VCALENDAR
