BEGIN:VCALENDAR
VERSION:2.0
BEGIN:VEVENT
CLASS:PUBLIC
CATEGORIES:MEETING
DTSTART;TZID=America/New_York:20160410T113000
DTEND;TZID=America/New_York:20160410T113000
SUMMARY:Ricky Rebel at Voss Events Presents: Ricky Rebel Live @ Señor Frog's
DESCRIPTION:Price: Free\nClick here to buy tickets: http://vossevents.com/event.cfm?id=162212&amp;cart\nAge Limit: 18+\n\nDetails: Brandon Voss Presents: \nSenor Frog&#39;s Drag Brunch\nWith Special Performance by  Recording Artist Ricky Rebel \nSunday, April 10th, 2016 11:30 AM\nSenor Frogs\n640 8th Avenue\nNew York, NY 10036\n18 &amp; over
LOCATION:Voss Events Presents: Ricky Rebel Live @ Señor Frog's - 640 8th Avenue, New York, NY, 10036, US
END:VEVENT

END:VCALENDAR
