BEGIN:VCALENDAR
VERSION:2.0
BEGIN:VEVENT
CLASS:PUBLIC
CATEGORIES:MEETING
DTSTART;TZID=America/Chicago:20160227T180000
DTEND;TZID=America/Chicago:20160227T180000
SUMMARY:A & EM at Carpe Cafe
DESCRIPTION:Age Limit: All Ages\n\nDetails: We&#39;re playing a whole set of original tunes! 
LOCATION:Carpe Cafe - 115 Front Street, Smyrna, TN, 37167, US
END:VEVENT

END:VCALENDAR
