BEGIN:VCALENDAR
VERSION:2.0
BEGIN:VEVENT
CLASS:PUBLIC
CATEGORIES:MEETING
DTSTART;TZID=America/Denver:20160206T180000
DTEND;TZID=America/Denver:20160206T180000
SUMMARY:Sammy Brue at The Heavy Metal Shop
DESCRIPTION:Price: Free\nAge Limit: All Ages\n\nDetails: Sammy Brue &amp; Morgan Snow performing Liv in The Heavy Metal Shop Saturday Feb. 6th @ 6:00 PM. Free All Ages Show
LOCATION:The Heavy Metal Shop - 63 Exchange Pl, Salt Lake City, UT, 84111, US
END:VEVENT

END:VCALENDAR
