BEGIN:VCALENDAR
VERSION:2.0
BEGIN:VEVENT
CLASS:PUBLIC
CATEGORIES:MEETING
DTSTART;TZID=America/Toronto:20160221T150000
DTEND;TZID=America/Toronto:20160221T150000
SUMMARY:Marlene Clarke at Academy Theatre for performing Arts
DESCRIPTION:Price: 20.00 one show 30.00 both shows\nClick here to buy tickets: http://www.academytheatre.ca\nAge Limit: All Ages\n\nDetails: Artists For The Academy of Performing Arts! Join this GREAT line-up of popular Canadian musicians in beautiful Lindsay. Ontario!! Tickets available at the box office\n(705) 324-9111
LOCATION:Academy Theatre for performing Arts - 2 Lindsay St S, Lindsay, ON, K9V 2L6, CA
END:VEVENT

END:VCALENDAR
