BEGIN:VCALENDAR
VERSION:2.0
BEGIN:VEVENT
CLASS:PUBLIC
CATEGORIES:MEETING
DTSTART;TZID=Pacific/Auckland:20160312T200000
DTEND;TZID=Pacific/Auckland:20160312T200000
SUMMARY:Phreaze at BLACK GOLD @ Brewers Bar
DESCRIPTION:Price: 5.00\nAge Limit: 18+\n\nDetails: HOUSE OF GOLD PRESENTS.... BLACK GOLD @ Brewers Bar! LIVE n LOCAL Hiphop all night long including Phreaze, House of Gold &amp; many more!! $10 at the Door or Pre Sold Tickets $5.
LOCATION:BLACK GOLD @ Brewers Bar - Newton Street, Mount Maunganui, BOO, NZ
END:VEVENT

END:VCALENDAR
