BEGIN:VCALENDAR
VERSION:2.0
BEGIN:VEVENT
CLASS:PUBLIC
CATEGORIES:MEETING
DTSTART;TZID=Pacific/Auckland:20080426T214500
DTEND;TZID=Pacific/Auckland:20080426T214500
SUMMARY:Sullen Moon at The Adelaide
DESCRIPTION:Age Limit: 18+
LOCATION:The Adelaide - Newtown, WGTN, 6023, NZ
END:VEVENT

END:VCALENDAR
