BEGIN:VCALENDAR
VERSION:2.0
BEGIN:VEVENT
CLASS:PUBLIC
CATEGORIES:MEETING
DTSTART;TZID=America/New_York:20160123T210000
DTEND;TZID=America/New_York:20160123T210000
SUMMARY:Crazyhearse at Two Brothers Tavern
DESCRIPTION:Age Limit: 21+
LOCATION:Two Brothers Tavern - Middlebury, VT, 05753, US
END:VEVENT

END:VCALENDAR
