BEGIN:VCALENDAR
VERSION:2.0
BEGIN:VEVENT
CLASS:PUBLIC
CATEGORIES:MEETING
DTSTART;TZID=Pacific/Auckland:20151205T100000
DTEND;TZID=Pacific/Auckland:20151205T100000
SUMMARY:Phreaze at Phreaze LIVE @ Tye Park
DESCRIPTION:Age Limit: All Ages\n\nDetails: FREE Entertainment, Stalls, Arts, Crafts and more!!! 10am-2pm
LOCATION:Phreaze LIVE @ Tye Park - Welcome Bay, Tauranga, BOP, NZ
END:VEVENT

END:VCALENDAR
