BEGIN:VCALENDAR
VERSION:2.0
BEGIN:VEVENT
CLASS:PUBLIC
CATEGORIES:MEETING
DTSTART:20151031T220000Z
DTEND:20151031T220000Z
SUMMARY:Phreaze at South Therapy @ REP FM 
DESCRIPTION:Click here to buy tickets: http://www.repfm.co.nz\nAge Limit: All Ages\n\nDetails: Phreaze will be visiting the Rep FM family once again THIS SATURDAY NIGHT 31 October from 6pm! If you&#39;re in Auckland, you can tune into the Live show at 106.9fm - or through the app or website at www.repfm.co.nz . See yaz there!!
LOCATION:South Therapy @ REP FM  - www.repfm.co.nz, Auckland, AKL, NZ
END:VEVENT

END:VCALENDAR
