BEGIN:VCALENDAR
VERSION:2.0
BEGIN:VEVENT
CLASS:PUBLIC
CATEGORIES:MEETING
DTSTART;TZID=Pacific/Auckland:20151218T220000
DTEND;TZID=Pacific/Auckland:20151218T220000
SUMMARY:Phreaze at Fast Eddie's
DESCRIPTION:Price: 5.00\nAge Limit: 18+\n\nDetails: Rilla Gang Official Presents... BACK TO THA JUNGLE! Dope live Hiphop performances by Blakout, Gin20, Lost, Tony Buxton, TNG, Scheme, K-Rush, Aspekt, Allgoodz Ent, Mac Dee, Jaimee Cruse, Rythmic, Phreaze, RAD, D1!!! $5 Entry on the door.
LOCATION:Fast Eddie's - 1/125 Manners Street, Wellington, 6011, NZ
END:VEVENT

END:VCALENDAR
