BEGIN:VCALENDAR
VERSION:2.0
BEGIN:VEVENT
CLASS:PUBLIC
CATEGORIES:MEETING
DTSTART;TZID=America/Detroit:20151030T200000
DTEND;TZID=America/Detroit:20151030T200000
SUMMARY:Frijid Pink at THE TOKEN LOUNGE
DESCRIPTION:Price: $10\nClick here to buy tickets: http://www.thetokenlounge.com\nAge Limit: 18+ or w/ adult\n\nDetails: 10:00pm - Frijid Pink - \nDoors open at 8pm - \n$10 at the door
LOCATION:THE TOKEN LOUNGE - 28949 Joy Road, Westland, MI, 48185, US
END:VEVENT

END:VCALENDAR
