BEGIN:VCALENDAR
VERSION:2.0
BEGIN:VEVENT
CLASS:PUBLIC
CATEGORIES:MEETING
DTSTART;TZID=Pacific/Auckland:20151003T200000
DTEND;TZID=Pacific/Auckland:20151003T200000
SUMMARY:Phreaze at Ironbar Cafe
DESCRIPTION:Click here to buy tickets: https://www.facebook.com/events/1016308398420170/\nAge Limit: All Ages\n\nDetails: Phreaze will perform alongside a DOPE lineup of NZ Hiphop Artists at Cypher - Rock The Bars!! See the Facebook page for more details! https://www.facebook.com/events/1016308398420170/
LOCATION:Ironbar Cafe - 150 Karangahape Road, Auckland, 1010, NZ
END:VEVENT

END:VCALENDAR
