BEGIN:VCALENDAR
VERSION:2.0
BEGIN:VEVENT
CLASS:PUBLIC
CATEGORIES:MEETING
DTSTART;TZID=America/New_York:20151114T190000
DTEND;TZID=America/New_York:20151114T190000
SUMMARY:Marcus Anderson at The Point Event Center
DESCRIPTION:Price: $20/Advance; $25/at the Door\nAge Limit: All Ages\n\nDetails: The Nicole Enoch Foundation Benefit Event
LOCATION:The Point Event Center - 5700 Riverdale Dr., Jamestown, NC, 27282, US
END:VEVENT

END:VCALENDAR
