BEGIN:VCALENDAR
VERSION:2.0
BEGIN:VEVENT
CLASS:PUBLIC
CATEGORIES:MEETING
DTSTART;TZID=America/Denver:20150925T200000
DTEND;TZID=America/Denver:20150925T200000
SUMMARY:The Velveteers at Dryer Plug Studios
DESCRIPTION:Click here to buy tickets: http://www.dryerplugstudio.com\nAge Limit: All Ages
LOCATION:Dryer Plug Studios - 3050 East 43rd Avenue, Denver, CO, 80216, US
END:VEVENT

END:VCALENDAR
