BEGIN:VCALENDAR
VERSION:2.0
BEGIN:VEVENT
CLASS:PUBLIC
CATEGORIES:MEETING
DTSTART;TZID=America/New_York:20150830T120000
DTEND;TZID=America/New_York:20150830T120000
SUMMARY:Andy Friedberg at Le Bateau Ivre
DESCRIPTION:Price: Free\nAge Limit: All Ages\n\nDetails: Join us for Jazz Brunch with jazz guitarist Andy Friedberg and his trio feat. Henning Stumm on drums. 12 noon until 4pm.\n
LOCATION:Le Bateau Ivre - 230 East 51st Street, New York, NY, 10022, US
END:VEVENT

END:VCALENDAR
