BEGIN:VCALENDAR
VERSION:2.0
BEGIN:VEVENT
CLASS:PUBLIC
CATEGORIES:MEETING
DTSTART;TZID=America/New_York:20150809T120000
DTEND;TZID=America/New_York:20150809T120000
SUMMARY:Andy Friedberg at Le Bateau Ivre
DESCRIPTION:Price: no cover\nAge Limit: All Ages\n\nDetails: Jazz Brunch with Andy Friedberg Trio! Tasteful Jazz and Food at its finest!\n
LOCATION:Le Bateau Ivre - 230 East 51st Street, New York, NY, 10022, US
END:VEVENT

END:VCALENDAR
