BEGIN:VCALENDAR
VERSION:2.0
BEGIN:VEVENT
CLASS:PUBLIC
CATEGORIES:MEETING
DTSTART;TZID=America/New_York:20150802T120000
DTEND;TZID=America/New_York:20150802T120000
SUMMARY:Andy Friedberg  at Le Bateau Ivre
DESCRIPTION:Age Limit: All Ages\n\nDetails: Andy Friedberg Trio will be playing for Sunday Brunch! 12-4pm no cover charge!\n
LOCATION:Le Bateau Ivre - 230 East 51st Street, New York, NY, 10022, US
END:VEVENT

END:VCALENDAR
