BEGIN:VCALENDAR
VERSION:2.0
BEGIN:VEVENT
CLASS:PUBLIC
CATEGORIES:MEETING
DTSTART;TZID=America/New_York:20150731T183000
DTEND;TZID=America/New_York:20150731T183000
SUMMARY:Hamilton New York at Richard Rodgers Theatre
DESCRIPTION:Price: FREE\nClick here to buy tickets: http://www.jazzmobile.org\nAge Limit: All Ages\n\nDetails: featuring Jacques Schwarz-Bart-Sax, Alex Blake-Bass, Tommy Campbell-Drums
LOCATION:Richard Rodgers Theatre - 226 West 46th Street, New York, NY, 10036, US
END:VEVENT

END:VCALENDAR
