BEGIN:VCALENDAR
VERSION:2.0
BEGIN:VEVENT
CLASS:PUBLIC
CATEGORIES:MEETING
DTSTART;TZID=Europe/Athens:20150805T210000
DTEND;TZID=Europe/Athens:20150805T210000
SUMMARY:Alex Papadiamantis at Kazarma Music Festival
DESCRIPTION:Age Limit: All Ages
LOCATION:Kazarma Music Festival - kalivia filachtis, Karditsa, GR
END:VEVENT

END:VCALENDAR
