BEGIN:VCALENDAR
VERSION:2.0
BEGIN:VEVENT
CLASS:PUBLIC
CATEGORIES:MEETING
DTSTART;TZID=America/New_York:20100826T193000
DTEND;TZID=America/New_York:20100826T193000
SUMMARY:HERMANS HERMITS   Peter Noone at Smoky Mountain Center for the Performing Arts
DESCRIPTION:Price: $18.00-$26.00\nClick here to buy tickets: http://www.greatmountainmusic.com/\nAge Limit: All Ages\n\nDetails: Herman&#39;s Hermits starring Peter Noone
LOCATION:Smoky Mountain Center for the Performing Arts - 1028 Georgia Rd, Franklin, NC, 28734, US
END:VEVENT

END:VCALENDAR
