BEGIN:VCALENDAR
VERSION:2.0
BEGIN:VEVENT
CLASS:PUBLIC
CATEGORIES:MEETING
DTSTART;TZID=America/Chicago:20150809T160000
DTEND;TZID=America/Chicago:20150809T160000
SUMMARY:Webb Wilder at Legacy Bar & Grill
DESCRIPTION:Price: $10\nClick here to buy tickets: http://www.legacybargrill.co/\nAge Limit: All Ages\n\nDetails: 5pm Solo appearance for Webb, followed by Holli Mosely band at 7pm. Your $10 cover gets you into both shows.
LOCATION:Legacy Bar & Grill - 9 Du Rhu Drive, Mobile, AL, 36608, US
END:VEVENT

END:VCALENDAR
