BEGIN:VCALENDAR
VERSION:2.0
BEGIN:VEVENT
CLASS:PUBLIC
CATEGORIES:MEETING
DTSTART;TZID=America/Chicago:20150716T190000
DTEND;TZID=America/Chicago:20150716T190000
SUMMARY:Hackdaddy at Olive Black Martini & Wine Lounge
DESCRIPTION:Age Limit: 18+\n\nDetails: The &quot;Summertime&quot; versions of Songbook Standards and Smooth Music Selections are on the musical menu for this evening, presented in an intimate manner and setting the mood for sharing your favorite beverages, tapas, desserts and conversation. Both program styles have been expanded with additional titles for your listening enjoyment!\n\nOlive Black Lounge is a 1940&#39;s style martini lounge with all the charm and appeal you&#39;d expect! Also, Thursday&#39;s are &quot;Date Night&quot; and include a very affordable evening out with that special someone.
LOCATION:Olive Black Martini & Wine Lounge - 5607 Broadway St, Richmond, IL, 60071, US
END:VEVENT

END:VCALENDAR
